BEGIN:VCALENDAR
VERSION:2.0
PRODID:-//Tukios.com/
BEGIN:VEVENT
UID:53a23e77-d7a3-4f34-9df9-4381672b5d5e@www.spadaforafuneral.com
DTSTAMP:20260422T000659Z
DTSTART:20260427T140000Z
DTEND:20260427T150000Z
SUMMARY:Mass
DESCRIPTION:
URL:https://www.spadaforafuneral.com/obituaries/wayne-martineau
LOCATION:Sacred Hearts Church 297 Main Street  Malden MA 02148
GEO:42.4244123;-71.0672638
END:VEVENT
END:VCALENDAR