BEGIN:VCALENDAR
VERSION:2.0
PRODID:-//Tukios.com/
BEGIN:VEVENT
UID:cef940e0-8eae-4fd9-b9c9-cbd9b4b41ef8@www.spadaforafuneral.com
DTSTAMP:20260422T001443Z
DTSTART:20260427T130000Z
DTEND:20260427T140000Z
SUMMARY:Funeral Service
DESCRIPTION:
URL:https://www.spadaforafuneral.com/obituaries/wayne-martineau
LOCATION:A. J. Spadafora Funeral Home 865 Main Street  Malden MA 02148
GEO:42.4352788;-71.0673895
END:VEVENT
END:VCALENDAR