BEGIN:VCALENDAR
VERSION:2.0
PRODID:-//Tukios.com/
BEGIN:VEVENT
UID:ed87da90-8611-4758-8fd7-f5acb07cd1ec@www.spadaforafuneral.com
DTSTAMP:20260422T001155Z
DTSTART:20260426T190000Z
DTEND:20260426T230000Z
SUMMARY:Visitation
DESCRIPTION:
URL:https://www.spadaforafuneral.com/obituaries/wayne-martineau
LOCATION:A. J. Spadafora Funeral Home 865 Main Street  Malden MA 02148
GEO:42.4352788;-71.0673895
END:VEVENT
END:VCALENDAR