BEGIN:VCALENDAR
VERSION:2.0
PRODID:-//Tukios.com/
BEGIN:VEVENT
UID:250ea915-35ea-4ecc-a999-13a037f8f939@www.spadaforafuneral.com
DTSTAMP:20260424T205124Z
DTSTART:20260428T140000Z
DTEND:20260428T150000Z
SUMMARY:Mass
DESCRIPTION:
URL:https://www.spadaforafuneral.com/obituaries/louis-botelho
LOCATION:Immaculate Conception Church 600 Pleasant Street  Malden MA 
	02148
GEO:42.4247459;-71.0873798
END:VEVENT
END:VCALENDAR