BEGIN:VCALENDAR
VERSION:2.0
PRODID:-//Tukios.com/
BEGIN:VEVENT
UID:b0b8acfb-280c-4b3d-9fe6-7d43b82564c4@www.spadaforafuneral.com
DTSTAMP:20260424T204611Z
DTSTART:20260428T120000Z
DTEND:20260428T133000Z
SUMMARY:Visitation
DESCRIPTION:
URL:https://www.spadaforafuneral.com/obituaries/louis-botelho
LOCATION:A.J. Spadafora Funeral Home 865 Main Street  Malden MA 02148
GEO:42.4352634;-71.0675594
END:VEVENT
END:VCALENDAR