BEGIN:VCALENDAR
VERSION:2.0
PRODID:-//Tukios.com/
BEGIN:VEVENT
UID:52d56dec-f6c7-4c7b-a60f-63ea8ed17448@www.spadaforafuneral.com
DTSTAMP:20260422T001333Z
DTSTART:20260429T140000Z
DTEND:20260429T150000Z
SUMMARY:Mass
DESCRIPTION:
URL:https://www.spadaforafuneral.com/obituaries/frank-schifano
LOCATION:Saint Patrick Church 71 Central Street  Stoneham MA 02180
GEO:42.4828062;-71.0986894
END:VEVENT
END:VCALENDAR