BEGIN:VCALENDAR
VERSION:2.0
PRODID:-//Tukios.com/
BEGIN:VEVENT
UID:4239dc7a-e5f2-47de-8c7b-64d0291c914a@www.spadaforafuneral.com
DTSTAMP:20260422T001442Z
DTSTART:20260429T124500Z
DTEND:20260429T134500Z
SUMMARY:Funeral Service
DESCRIPTION:
URL:https://www.spadaforafuneral.com/obituaries/frank-schifano
LOCATION:A. J. Spadafora Funeral Home 865 Main Street  Malden MA 02148
GEO:42.4352788;-71.0673895
END:VEVENT
END:VCALENDAR