BEGIN:VCALENDAR
VERSION:2.0
PRODID:-//Tukios.com/
BEGIN:VEVENT
UID:12b08fb3-1ea2-4069-a72b-a4d7ca0a445a@www.spadaforafuneral.com
DTSTAMP:20260422T001442Z
DTSTART:20260428T200000Z
DTEND:20260429T000000Z
SUMMARY:Visitation
DESCRIPTION:
URL:https://www.spadaforafuneral.com/obituaries/frank-schifano
LOCATION:A. J. Spadafora Funeral Home 865 Main Street  Malden MA 02148
GEO:42.4352788;-71.0673895
END:VEVENT
END:VCALENDAR