BEGIN:VCALENDAR
VERSION:2.0
PRODID:-//Tukios.com/
BEGIN:VEVENT
UID:413d2331-ef64-4f0c-9d20-47fd7675d336@www.spadaforafuneral.com
DTSTAMP:20260422T000812Z
DTSTART:20260423T213000Z
DTEND:20260423T223000Z
SUMMARY:Funeral Service
DESCRIPTION:
URL:https://www.spadaforafuneral.com/obituaries/frank-john
LOCATION:A. J. Spadafora Funeral Home 865 Main Street  Malden MA 02148
GEO:42.4352788;-71.0673895
END:VEVENT
END:VCALENDAR